BEGIN:VCALENDAR
VERSION:2.0
PRODID:-//hacksw/handcal//NONSGML v1.0//EN
BEGIN:VEVENT
SUMMARY:Championnats de France d'ekiden 2026
UID:b8b6f942-befd-4f20-b46f-dfe0b84caf4d
DTSTART:20260418T220000Z
DTEND:20260419T220000Z
LOCATION:Localisation   Chatelaillon Plage
CATEGORIES:Sportif
STATUS:
DESCRIPTION:<p><a
 href="https://www.athle.fr/competitions/756846249846990831325846670843754834"
 target="_blank" rel="noreferrer noopener">Fiche FFA de la
 competition</a></p>
URL;VALUE=URI:https://www.asfondettesathletisme.com/evenements/2026/04/19/championnats-de-france-dekiden-2026-2443967
END:VEVENT
END:VCALENDAR
